BEGIN:VCALENDAR
VERSION:2.0
PRODID:-//Uninavarra - ECPv6.15.20//NONSGML v1.0//EN
CALSCALE:GREGORIAN
METHOD:PUBLISH
X-WR-CALNAME:Uninavarra
X-ORIGINAL-URL:https://uninavarra.edu.co/en
X-WR-CALDESC:Events for Uninavarra
REFRESH-INTERVAL;VALUE=DURATION:PT1H
X-Robots-Tag:noindex
X-PUBLISHED-TTL:PT1H
BEGIN:VTIMEZONE
TZID:America/Bogota
BEGIN:STANDARD
TZOFFSETFROM:-0500
TZOFFSETTO:-0500
TZNAME:-05
DTSTART:20250101T000000
END:STANDARD
END:VTIMEZONE
BEGIN:VEVENT
DTSTART;TZID=America/Bogota:20260421T080000
DTEND;TZID=America/Bogota:20260520T170000
DTSTAMP:20260424T053000
CREATED:20260422T160110Z
LAST-MODIFIED:20260422T160110Z
UID:99071-1776758400-1779296400@uninavarra.edu.co
SUMMARY:Convocatoria - Programa La Cuchara UNINAVARRA 2026-2
DESCRIPTION:🍽️ ¡Se abre la convocatoria!\n¿Quieres hacer parte del programa La Cuchara UNINAVARRA 2026-2?\nEsta es tu oportunidad para acceder a un apoyo que contribuye a tu bienestar y permanencia académica. \n📅 Convocatoria abierta del 21 de abril al 20 de mayo de 2026 \nPorque en UNINAVARRA sabemos que tu bienestar también es clave para alcanzar tus metas. \n¡Postúlate y sigue construyendo tu camino con nosotros! \n\n		\n	\n INSCRÍBETE AQUÍ
URL:https://uninavarra.edu.co/en/event/convocatoria-programa-la-cuchara-uninavarra-2026-2/
ATTACH;FMTTYPE=image/jpeg:https://uninavarra.edu.co/wp-content/uploads/2026/04/Cucharra-Uninavarra-convocatoria-2026-2-1.jpg
END:VEVENT
BEGIN:VEVENT
DTSTART;TZID=America/Bogota:20260422T183000
DTEND;TZID=America/Bogota:20260422T200000
DTSTAMP:20260424T053000
CREATED:20260418T170121Z
LAST-MODIFIED:20260418T170121Z
UID:98991-1776882600-1776888000@uninavarra.edu.co
SUMMARY:El trabajo es Felicidad: Herramientas Prácticas para el Bienestar General
DESCRIPTION:En UNINAVARRA te invitamos a vivir una experiencia transformadora en el webinar “El Trabajo es Felicidad: Herramientas Prácticas para el Bienestar Laboral”\, un espacio pensado para fortalecer tu bienestar\, motivación y crecimiento profesional. \n📅 22 de abril de 2026\n🕡 6:30 p.m.\n💻 Modalidad virtual \n💡 Dirigido a colaboradores\, profesores y egresados UNINAVARRA. \n\n		\n	\nCONÉCTATE AQUÍ
URL:https://uninavarra.edu.co/en/event/el-trabajo-es-felicidad-herramientas-practicas-para-el-bienestar-general/
ATTACH;FMTTYPE=image/jpeg:https://uninavarra.edu.co/wp-content/uploads/2026/04/Webinar-el-trabajo-es-felicidad-2-1.jpg
END:VEVENT
BEGIN:VEVENT
DTSTART;TZID=America/Bogota:20260423T080000
DTEND;TZID=America/Bogota:20260423T170000
DTSTAMP:20260424T053000
CREATED:20260415T143312Z
LAST-MODIFIED:20260415T143347Z
UID:98909-1776931200-1776963600@uninavarra.edu.co
SUMMARY:Convocatoria abierta para inversionistas LION HUB EVENT
DESCRIPTION:🔗Convocatoria abierta para inversionistas \n¿Estás listo para descubrir y apoyar las ideas de negocio del futuro?\nEn el LION HUB EVENT 2026-1 de UNINAVARRA\, tendrás la oportunidad de conocer proyectos innovadores con alto potencial de crecimiento\, desarrollados por talento emergente. \n✅Conecta con emprendedores\n✅ Encuentra oportunidades de inversión\n✅ Genera alianzas estratégicas \nHaz parte del ecosistema que impulsa la innovación y el desarrollo empresarial. \n👉🏻 Convocatoria abierta hasta el 23 de abril de 2026 \n\n		\n	\n REGÍSTRATE AHORA
URL:https://uninavarra.edu.co/en/event/convocatoria-abierta-para-inversionistas-lion-hub-event/
ATTACH;FMTTYPE=image/png:https://uninavarra.edu.co/wp-content/uploads/2026/04/LION-HUB-INVERSIONISTAS-3-1.png
END:VEVENT
BEGIN:VEVENT
DTSTART;TZID=America/Bogota:20260423T080000
DTEND;TZID=America/Bogota:20260424T170000
DTSTAMP:20260424T053000
CREATED:20260421T193437Z
LAST-MODIFIED:20260421T193722Z
UID:99037-1776931200-1777050000@uninavarra.edu.co
SUMMARY:Gran Jornada de la Salud Física y Mental
DESCRIPTION:UNINAVARRA te invita a la Jornada de la Salud Física y Mental\, un espacio creado para reconectar contigo\, cuidar tu cuerpo y fortalecer tu mente 🧠❤️\n📍 23 de abril – Sede Parque\n📍 24 de abril – Sede Principal\nPorque el equilibrio entre mente y cuerpo no es un lujo… ¡es la clave para una vida plena! 🙌\nVen\, participa y conéctate con tu bienestar.
URL:https://uninavarra.edu.co/en/event/gran-jornada-de-la-salud-fisica-y-mental/
ATTACH;FMTTYPE=image/png:https://uninavarra.edu.co/wp-content/uploads/2026/04/portada-salud-fisica-y-mental.png
END:VEVENT
BEGIN:VEVENT
DTSTART;TZID=America/Bogota:20260423T110000
DTEND;TZID=America/Bogota:20260423T200000
DTSTAMP:20260424T053000
CREATED:20260418T162639Z
LAST-MODIFIED:20260421T162711Z
UID:98980-1776942000-1776974400@uninavarra.edu.co
SUMMARY:Webinar en buenas prácticas para la toma de imágenes diagnósticas
DESCRIPTION:Desde UNINAVARRA te invitamos a participar en el Webinar: Buenas prácticas para la toma de imágenes diagnósticas\, un espacio académico diseñado para actualizarte y potenciar tus habilidades con enfoque profesional. \nContaremos con la participación de Alba Torres Gallo\, española experta en imagen diagnóstica y medicina nuclear\, quien compartirá herramientas clave para una práctica segura\, precisa y de calidad. \n📅 23 de abril de 2026\n🕕 11:00 a.m. (Colombia)\n💻 Modalidad: 100% online \n\n		\n	\n🔗CONÉCTATE AQUÍ
URL:https://uninavarra.edu.co/en/event/webinar-en-buenas-practicas-para-la-toma-de-imagenes-diagnosticas/
ATTACH;FMTTYPE=image/jpeg:https://uninavarra.edu.co/wp-content/uploads/2026/04/CAPACITACION-EN-BUENAS-PRACTICAS-2.jpg
END:VEVENT
BEGIN:VEVENT
DTSTART;TZID=America/Bogota:20260423T160000
DTEND;TZID=America/Bogota:20260423T180000
DTSTAMP:20260424T053000
CREATED:20260421T134518Z
LAST-MODIFIED:20260421T134518Z
UID:99000-1776960000-1776967200@uninavarra.edu.co
SUMMARY:Taller Digital Lab: Laboratorio de Herramientas de Productividad
DESCRIPTION:Te invitamos al Taller Digital Lab: Laboratorio de Herramientas de Productividad\, un espacio práctico para aprender\, crear y optimizar tu día a día con tecnología. \n📅 23 de abril\n🕓 4:00 p.m. a 6:00 p.m.\n📍 Sala TIC – UNINAVARRA \n👥 Dirigido a comunidades vinculadas a proyección social y al Grupo de Humanización G. Moscati. \n¡Conéctate con la innovación y lleva tu productividad al siguiente nivel! Te Esperamos
URL:https://uninavarra.edu.co/en/event/taller-digital-lab-laboratorio-de-herramientas-de-productividad/
ATTACH;FMTTYPE=image/png:https://uninavarra.edu.co/wp-content/uploads/2026/04/TALLER-DIGIT-LAB-1.png
END:VEVENT
BEGIN:VEVENT
DTSTART;TZID=America/Bogota:20260429T150000
DTEND;TZID=America/Bogota:20260429T170000
DTSTAMP:20260424T053000
CREATED:20260422T155343Z
LAST-MODIFIED:20260422T155343Z
UID:99067-1777474800-1777482000@uninavarra.edu.co
SUMMARY:Narrativas Abril: Código de Intimidad: Conversatorio vivencial sobre el amor\, el deseo y la sexualidad.
DESCRIPTION:El amor\, el deseo y la sexualidad también se construyen desde el conocimiento\, el respeto y la conciencia. 💬 \nTe invitamos al conversatorio vivencial “Código de Intimidad”\, un espacio para reflexionar\, aprender y conectar desde una mirada profesional y humana. \n👩‍⚕️Con expertos en bioética y psicología clínica\n🎙️ Moderado por el Dr. Isidro Torres Castro \n📅 29 de abril de 2026\n🕒 3:00 p.m. a 5:00 p.m.\n📍 Salones 107 – 108\, Sede Centro \nUna conversación abierta que te permitirá comprender mejor las dinámicas del amor y la sexualidad en la vida cotidiana.
URL:https://uninavarra.edu.co/en/event/narrativas-abril-codigo-de-intimidad-conversatorio-vivencial-sobre-el-amor-el-deseo-y-la-sexualidad/
ATTACH;FMTTYPE=image/jpeg:https://uninavarra.edu.co/wp-content/uploads/2026/04/CODIGO-DE-INTIMIDAD-2-1.jpg
END:VEVENT
END:VCALENDAR